BEGIN:VCALENDAR
VERSION:2.0
PRODID:-//eventon.com NONSGML v1.0//EN
CALSCALE:GREGORIAN
METHOD:PUBLISH
BEGIN:VEVENT
UID:69e9cd2faa6b4
DTSTAMP:20260423T074135Z
DTSTART:20260113T160000Z
DTEND:20260113T173000Z
LOCATION:
SUMMARY:Leistungsturnen
DESCRIPTION:Leistungsturnen\nhttps://tsv-schoenwalde.de/events/leistungstur
 nen-2
URL:https://tsv-schoenwalde.de/events/leistungsturnen-2
END:VEVENT
END:VCALENDAR