BEGIN:VCALENDAR
VERSION:2.0
PRODID:-//eventon.com NONSGML v1.0//EN
CALSCALE:GREGORIAN
METHOD:PUBLISH
BEGIN:VEVENT
UID:69e745ec80195
DTSTAMP:20260421T093956Z
DTSTART:20260113T173000Z
DTEND:20260113T183000Z
LOCATION:
SUMMARY:Frauenturngruppe - Fitness für Seniorinnen
DESCRIPTION:Frauenturngruppe - Fitness für Seniorinnen\nhttps://tsv-schoen
 walde.de/events/frauenturngruppe-fitness-fuer-seniorinnen
URL:https://tsv-schoenwalde.de/events/frauenturngruppe-fitness-fuer-seniorinnen
END:VEVENT
END:VCALENDAR